Workbook

Sheet 1.Mnthly Income Expend Apr20
C1: THORNTON LE DALE PARISH COUNCIL MONTHLY ACCOUNTS - RUNNING TOTALS TO BANK
C2: Income & Expenditure 1April 2020 to 31st March 2021
D3: Expenditure Total | E3: Income Total | F3: Monthly Income Total
C4: Total bank in/out | D4: =SUM(D8:D30) -> 4574.19 | E4: =SUM(E9:E30) -> 40826.76 | F4: =E4-E9 -> 23030 | AC4: =SUM(F5:AC5) -> 4574.19 | AN4: =SUM(AE5:AN5) -> 23030
C5: Bank balance | D5: =IF(D4>E4,D4-E4,"") | E5: =IF(E4>D4,E4-D4,"") -> 36252.57 | F5: =SUM(F8:F500) -> 0 | G5: =SUM(G8:G500) -> 69.61 | H5: =SUM(H8:H500) -> 1456.96 | I5: =SUM(I8:I500) -> 525 | J5: =SUM(J8:J500) -> 768.75 | K5: =SUM(K8:K500) -> 746 | L5: =SUM(L8:L500) -> 0 | M5: =SUM(M8:M500) -> 724 | ... AN5: =SUM(AN8:AN500) -> 0 | AS5: =SUM(AS8:AS1326) -> 0 | AT5: =SUM(AT8:AT1326) -> 0 | AU5: =SUM(AU8:AU1326) -> 0 | AV5: =SUM(AV8:AV1326) -> 0 | AX5: =SUM(AX8:AX1326) -> 0
F6: ANALYSIS - BREAKDOWN OF INDIVIDUAL ELEMENT PAYMENTS
A7: Date (Cleared Bank A/C) | B7: Cheq No or Pay'in slip No | C7: Details of item / Description | D7: Payments (outgoings) | E7: Receipts (income) | F7: Institute & Church Clock Maintenance & Repairs | G7: Payroll Processing (Autela Costs) | H7: Payroll Costs, Pension Conts & HMRC & Expenses Paid | I7: Caretaking, village maintenance, inc benches | J7: Cemetery & Churchyard Maintenance | K7: Grass Cutting Contract | L7: Refuse Collection (RDC) & Waste, allotment compost waste | M7: Professional & Association Memberships - YLCA, SLCC | N7: Training Costs Clerk & Councillors & Study Fees ILCA / CiLCA | O7: Village Green Maintenance costs, railings | P7: Hub Group - Grant, paint, misc. supplies | Q7: Stationery, Stamps, sundry office supplies, books & guides, bulk photocopying | R7: Office Equipment, Laptop, printer & sundry items | S7: Yorkshire Water - Allotments & Cemetery | T7: Annual Audit | U7: BT, Telecoms, Broadband - Clerk Office | V7: Village Defibrillator | W7: Vale of Pickering Drainage Board - Bull Field Costs | X7: Insurance & Professional Fees | Y7: NYCC Streetlighting - upgrades & ongoing Maintenance | Z7: Grants Awarded | AA7: Councillor Expenses Reimburse | AB7: Hill Memorial Institute: Rent, Utilities, Trustees Insurance | AC7: Internal Transfers to Premium Account | AD7: VAT to reclaim | AE7: Income - Cemetery Burials & Memorials & Exclusive Rights | AF7: Income Allotments Annual Rents | AG7: Income - Employment Misc, Expenses refund | AH7: RDC - Precept, CIL Payments | AI7: Bank Interest Received | AJ7: NYCC Refunds Highways Grass Cutting | AK7: Transfer from Reserve / Business Premium Account (balance adjustments between accounts) | AL7: Income - Land Rental Bull Field Roxby Terrace parking space | AM7: Income - Grants NYMNP Caretaker Grant, NYCC Grants | AN7: Income - Insurance Claims Settlements Reimbursements
A9: 43922 | C9: Balance brought forward from 31March2020 | E9: 17796.76
A10: 43922 | B10: BACS | C10: Payroll - Salary & Expenses | D10: 1141.24 | H10: =D10 -> 1141.24
A11: 43922 | B11: BACS | C11: SLCC - Annual Membership - Clerk Professional Body | D11: 161 | M11: =D11 -> 161
A12: 43922 | B12: BACS | C12: HMRC - PAYE Contributions Q4 | D12: 201.14 | H12: =D12 -> 201.14
A13: 43922 | B13: BACS | C13: YLCA - Association Membership - Annual fee | D13: 563 | M13: =D13 -> 563
A14: 43922 | B14: BACS | C14: Caretaker - Churchyard & Cemetery (£768.75) Village Caretaking (£525.00) | D14: 1293.75 | I14: 525 | J14: 768.75
A15: 43922 | B15: BACS | C15: Autela Payroll Services - Payroll Processing Q4 | D15: 69.61 | G15: =D15 -> 69.61 | AD15: 11.6
A16: 43922 | B16: BACS | C16: Vale of Pickering Internal Drainage Board - Agricultural Drainage Rates - Bull Field - 1.871 acres (0.757 hectares) | D16: 9.42 | W16: =D16 -> 9.42
A17: 43922 | B17: BACS | C17: Grass Cutting - S Hough - 1st Cut 2020 - 25March20 | D17: 746 | K17: =D17 -> 746
A18: 43922 | B18: BACS | C18: Thornton Dale Bowling Club - Grant processing (contribuiton to water boiler) | D18: 200 | Z18: =D18 -> 200
A19: 43922 | B19: BACS | C19: Business Stream (Water supplier) Allotments (£65.88) Cemetery (£8.57) | D19: 74.45 | S19: =D19 -> 74.45
A20: 43927 | B20: BACS | C20: Receipt direct to bank - Bull Field Annual Rental 2020/21 | E20: 535 | AL20: =E20 -> 535
A21: 43935 | B21: BACS | C21: Receipt direct to bank - Allotment new rental Plot21 | E21: 35 | AF21: =E21 -> 35
A22: 43935 | B22: BACS | C22: Receipt direct to bank - Exclusive Rights of Burial - Preston | E22: 90 | AE22: =E22 -> 90
A23: 43937 | B23: cheques | C23: cheq payments allotment Rental - plots 20, 24, 19, 22, 17 & 18 | E23: 210 | AF23: =E23 -> 210
A24: 43938 | B24: BACS | C24: Adam Collier Funeral Directors - internment / exclusive rights fees | E24: 90 | AE24: =E24 -> 90
A25: 43941 | B25: BACS | C25: Receipt direct to bank - Allotment Rental - plot34 | E25: 35 | AF25: =E25 -> 35
A26: 43942 | B26: DD | C26: NEST Pension contributions - Employment | D26: 114.58 | H26: =D26 -> 114.58
A27: 43948 | B27: BACS | C27: Receipt direct to bank - Allotment rental - new tenant plot 29 | E27: 35 | AF27: =E27 -> 35
A28: 43948 | B28: BACS | C28: Receipt direct to Bank - 1st Precept Payment 2020 /21 Ryedale District Council | E28: 22000 | AH28: =E28 -> 22000

Sheet 2.Mnthly Income Expend May20
C1: THORNTON LE DALE PARISH COUNCIL MONTHLY ACCOUNTS - RUNNING TOTALS TO BANK
C2: Income & Expenditure 1April 2020 to 31st March 2021
D3: Expenditure Total | E3: Income Total | F3: Monthly Income Total
C4: Total bank in/out | D4: =SUM(D8:D372) -> 4353.37 | E4: =SUM(E9:E501) -> 36287.57 | F4: =E4-E9 -> 35 | AC4: =SUM(F5:AC5) -> 4353.37 | AN4: =SUM(AE5:AN5) -> 35
C5: Bank balance | D5: =IF(D4>E4,D4-E4,"") | E5: =IF(E4>D4,E4-D4,"") -> 31934.2 | F5: =SUM(F8:F500) -> 0 | G5: =SUM(G8:G500) -> 0 | H5: =SUM(H8:H500) -> 1479.38 | I5: =SUM(I8:I500) -> 625 | J5: =SUM(J8:J500) -> 673.75 | K5: =SUM(K8:K500) -> 1492 | L5: =SUM(L8:L500) -> 0 | M5: =SUM(M8:M500) -> 0 | ... AN5: =SUM(AN8:AN500) -> 0 | BT5: =SUM(BT8:BT1300) -> 0
F6: ANALYSIS - BREAKDOWN OF INDIVIDUAL ELEMENT PAYMENTS
A7: Date (Cleared Bank A/C) | B7: Cheq No or Pay'in slip No | C7: Details of item / Description | D7: Payments (outgoings) | E7: Receipts (income) | F7: Institute & Church Clock Maintenance & Repairs | G7: Payroll Processing (Autela Costs) | H7: Payroll Costs, Pension Conts & HMRC & Expenses Paid | I7: Caretaking, village maintenance, inc benches | J7: Cemetery & Churchyard Maintenance | K7: Grass Cutting Contract | L7: Refuse Collection (RDC) & Waste, allotment compost waste | M7: Professional & Association Memberships - YLCA, SLCC | N7: Training Costs Clerk & Councillors & Study Fees ILCA / CiLCA | O7: Village Green Maintenance costs, railings | P7: Hub Group - Grant, paint, misc. supplies | Q7: Stationery, Stamps, sundry office supplies, books & guides, bulk photocopying | R7: Office Equipment, Laptop, printer & sundry items | S7: Yorkshire Water - Allotments & Cemetery | T7: Annual Audit | U7: BT, Telecoms, Broadband - Clerk Office | V7: Village Defibrillator | W7: Vale of Pickering Drainage Board - Bull Field Costs | X7: Insurance & Professional Fees | Y7: NYCC Streetlighting - upgrades & ongoing Maintenance | Z7: Grants Awarded | AA7: Councillor Expenses Reimburse | AB7: Hill Memorial Institute: Rent, Utilities, Trustees Insurance | AC7: Internal Transfers to Premium Account | AD7: VAT to reclaim | AE7: Income - Cemetery Burials & Memorials & Exclusive Rights | AF7: Income Allotments Annual Rents | AG7: Income - Employment Misc, Expenses refund | AH7: RDC - Precept, CIL Payments | AI7: Bank Interest Received | AJ7: NYCC Refunds Highways Grass Cutting | AK7: Transfer from Reserve / Business Premium Account (balance adjustments between accounts) | AL7: Income - Land Rental Bull Field Roxby Terrace parking space | AM7: Income - Grants NYMNP Caretaker Grant, NYCC Grants | AN7: Income - Insurance Claims Settlements Reimbursements
A9: 43952 | C9: Balance brought forward from 30 April 2020 | E9: ='1.Mnthly Income Expend Apr20'!E5 -> 36252.57
A10: 43955 | B10: BACS | C10: Payroll - Salary & Expenses | D10: 1407.21 | H10: =D10 -> 1407.21
A11: 43955 | B11: BACS | C11: Wardill Bros - stationery / stamps | D11: 83.24 | Q11: =D11 -> 83.24
A12: 43955 | B12: BACS | C12: Caretaker - Churchyard & Cemetery (£673.75) Village Caretaking (£625.00) | D12: 1298.75 | I12: 625 | J12: 673.75
A13: 43955 | B13: BACS | C13: Grass Cutting - S Hough - April 2 x cuts 8th & 21st April | D13: 1492 | K13: =D13 -> 1492
A14: 43963 | B14: DD | C14: NEST Pension Contributions | D14: 72.17 | H14: =D14 -> 72.17
A15: 43963 | B15: BACS | C15: Receipt from MOP Allotment Rent Plot39 | E15: 35 | AF15: =E15 -> 35

Sheet 3.Mnthly Income Expend June20
C1: THORNTON LE DALE PARISH COUNCIL MONTHLY ACCOUNTS - RUNNING TOTALS TO BANK
C2: Income & Expenditure 1April 2020 to 31st March 2021
D3: Expenditure Total | E3: Income Total | F3: Month Income Total
C4: Total bank in/out | D4: =SUM(D8:D379) -> 3649.08 | E4: =SUM(E9:E508) -> 36079.58 | F4: =E4-E9 -> 4145.38 | AC4: =SUM(F5:AC5) -> 3649.08 | AN4: =SUM(AE5:AN5) -> 4145.38
C5: Bank balance | D5: =IF(D4>E4,D4-E4,"") | E5: =IF(E4>D4,E4-D4,"") -> 32430.5 | F5: =SUM(F8:F500) -> 0 | G5: =SUM(G8:G500) -> 0 | H5: =SUM(H8:H500) -> 1088.79 | I5: =SUM(I8:I500) -> 298.38 | J5: =SUM(J8:J500) -> 336.87 | K5: =SUM(K8:K500) -> 1492 | L5: =SUM(L8:L500) -> 0 | M5: =SUM(M8:M500) -> 0 | ... AN5: =SUM(AN8:AN500) -> 0
F6: ANALYSIS - BREAKDOWN OF INDIVIDUAL ELEMENT PAYMENTS
A7: Date (Cleared Bank A/C) | B7: Cheq No or Pay'in slip No | C7: Details of item / Description | D7: Payments (outgoings) | E7: Receipts (income) | F7: Institute & Church Clock Maintenance & Repairs | G7: Payroll Processing (Autela Costs) | H7: Payroll Costs, Pension Conts & HMRC & Expenses Paid | I7: Caretaking, village maintenance, inc benches | J7: Cemetery & Churchyard Maintenance | K7: Grass Cutting Contract | L7: Refuse Collection (RDC) & Waste, allotment compost waste | M7: Professional & Association Memberships - YLCA, SLCC | N7: Training Costs Clerk & Councillors & Study Fees ILCA / CiLCA | O7: Village Green Maintenance costs, railings | P7: Hub Group - Grant, paint, misc. supplies | Q7: Stationery, Stamps, sundry office supplies, books & guides, bulk photocopying | R7: Office Equipment, Laptop, printer & sundry items | S7: Yorkshire Water - Allotments & Cemetery | T7: Annual Audit | U7: BT, Telecoms, Broadband - Clerk Office | V7: Village Defibrillator | W7: Vale of Pickering Drainage Board - Bull Field Costs | X7: Insurance & Professional Fees | Y7: NYCC Streetlighting - upgrades & ongoing Maintenance | Z7: Grants Awarded | AA7: Councillor Expenses Reimburse | AB7: Hill Memorial Institute: Rent, Utilities, Trustees Insurance | AC7: Internal Transfers to Premium Account | AD7: VAT to reclaim | AE7: Income - Cemetery Burials & Memorials & Exclusive Rights | AF7: Income Allotments Annual Rents | AG7: Income - Employment Misc, Expenses refund | AH7: RDC - Precept, CIL Payments | AI7: Bank Interest Received | AJ7: NYCC Refunds Highways Grass Cutting | AK7: Transfer from Reserve / Business Premium Account (balance adjustments between accounts) | AL7: Income - Land Rental Bull Field Roxby Terrace parking space | AM7: Income - Grants NYMNP Caretaker Grant, NYCC Grants | AN7: Income - Insurance Claims Settlements Reimbursements
A9: 43983 | C9: Balance brought forward from 31 May 2020 | E9: ='2.Mnthly Income Expend May20'!E5 -> 31934.2
A10: 43983 | B10: BACS | C10: BACS receipt North York County Council - refund for grass verge cutting visibility splays - annual | E10: 775.38 | AJ10: =E10 -> 775.38
A11: 43984 | B11: BACS | C11: BACS Payment to NYCC - streetlighting repairs - annual - 2019 / 2020 | D11: 433.04 | Y11: =D11 -> 433.04
A12: 43984 | B12: BACS | C12: Caretaker - monthly invoice | D12: 635.25 | I12: 298.38 | J12: 336.87
A13: 43984 | B13: BACS | C13: Payroll | D13: 1013.89 | H13: =D13 -> 1013.89
A14: 43984 | B14: BACS | C14: S Hough - Village Grass Cutting | D14: 1492 | K14: =D14 -> 1492
A15: 43984 | B15: BACS | C15: BACS receipt from North York Moor NP - Caretaker Grant Scheme annual | E15: 2500 | AM15: =E15 -> 2500
A16: 43986 | B16: 100015 | C16: Cheque payment - RH Barnes - Internment fees | E16: 120 | AE16: =E16 -> 120
A17: 43986 | B17: 100014 | C17: Cheque payment - RH Barnes - Internment fees | E17: 380 | AE17: =E17 -> 380
A18: 43991 | B18: DD | C18: NEST Pension Contributions | D18: 74.9 | H18: =D18 -> 74.9
A19: 44012 | B19: BACS | C19: BACS receipt - Adam Collier - internment / exclusive rights fees | E19: 370 | AE19: =E19 -> 370

Sheet 4.Mnthly Income Expend July20
C1: THORNTON LE DALE PARISH COUNCIL MONTHLY ACCOUNTS - RUNNING TOTALS TO BANK
C2: Income & Expenditure 1April 2020 to 31st March 2021
D3: Expenditure Total | E3: Income Total | F3: Monthly Income Total
C4: Total bank in/out | D4: =SUM(D8:D376) -> 3721.58 | E4: =SUM(E9:E505) -> 32820.5 | F4: =E4-E9 -> 390 | AC4: =SUM(F5:AC5) -> 3721.58 | AN4: =SUM(AE5:AN5) -> 390
C5: Bank balance | D5: =IF(D4>E4,D4-E4,"") | E5: =IF(E4>D4,E4-D4,"") -> 29098.92 | F5: =SUM(F8:F500) -> 0 | G5: =SUM(G8:G500) -> 82.37 | H5: =SUM(H8:H500) -> 1626.62 | I5: =SUM(I8:I500) -> 0 | J5: =SUM(J8:J500) -> 0 | K5: =SUM(K8:K500) -> 1492 | L5: =SUM(L8:L500) -> 0 | M5: =SUM(M8:M500) -> 100 | ... AN5: =SUM(AN8:AN500) -> 0
F6: ANALYSIS - BREAKDOWN OF INDIVIDUAL ELEMENT PAYMENTS
A7: Date (Cleared Bank A/C) | B7: Cheq No or Pay'in slip No | C7: Details of item / Description | D7: Payments (outgoings) | E7: Receipts (income) | F7: Institute & Church Clock Maintenance & Repairs | G7: Payroll Processing (Autela Costs) | H7: Payroll Costs, Pension Conts & HMRC & Expenses Paid | I7: Caretaking, village maintenance, inc benches | J7: Cemetery & Churchyard Maintenance | K7: Grass Cutting Contract | L7: Refuse Collection (RDC) & Waste, allotment compost waste | M7: Professional & Association Memberships - YLCA, SLCC | N7: Training Costs Clerk & Councillors & Study Fees ILCA / CiLCA | O7: Village Green Maintenance costs, railings | P7: Hub Group - Grant, paint, misc. supplies | Q7: Stationery, Stamps, sundry office supplies, books & guides, bulk photocopying | R7: Office Equipment, Laptop, printer & sundry items | S7: Yorkshire Water - Allotments & Cemetery | T7: Annual Audit | U7: BT, Telecoms, Broadband - Clerk Office | V7: Village Defibrillator | W7: Vale of Pickering Drainage Board - Bull Field Costs | X7: Insurance & Professional Fees | Y7: NYCC Streetlighting - upgrades & ongoing Maintenance | Z7: Grants Awarded | AA7: Councillor Expenses Reimburse | AB7: Hill Memorial Institute: Rent, Utilities, Trustees Insurance | AC7: Internal Transfers to Premium Account | AD7: VAT to reclaim | AE7: Income - Cemetery Burials & Memorials & Exclusive Rights | AF7: Income Allotments Annual Rents | AG7: Income - Employment Misc, Expenses refund | AH7: RDC - Precept, CIL Payments | AI7: Bank Interest Received | AJ7: NYCC Refunds Highways Grass Cutting | AK7: Transfer from Reserve / Business Premium Account (balance adjustments between accounts) | AL7: Income - Land Rental Bull Field Roxby Terrace parking space | AM7: Income - Grants NYMNP Caretaker Grant, NYCC Grants | AN7: Income - Insurance Claims Settlements Reimbursements
A9: 44013 | C9: Balance brought forward from 30 June 2020 | E9: ='3.Mnthly Income Expend June20'!E5 -> 32430.5
A10: 44013 | B10: BACS | C10: Business Stream - Scottish Water - Cemetery | D10: 7.62 | S10: =D10 -> 7.62
A11: 44013 | B11: BACS | C11: Business Stream - Scottish Water - Allotments | D11: 71.53 | S11: =D11 -> 71.53
A12: 44013 | B12: BACS | C12: JRA Computer Services Ltd - annual software licence Bullguard | D12: 37.5 | R12: =D12 -> 37.5
A13: 44013 | B13: BACS | C13: Internal Auditor - Annual Audit AGAR | D13: 100 | M13: =D13 -> 100
A14: 44013 | B14: BACS | C14: Ryedale District Council - Street Lighting Repairs 2019 / 2020 | D14: 303.94 | Y14: =D14 -> 303.94
A15: 44013 | B15: BACS | C15: HMRC - Employer's costs Q1 2020/21 | D15: 498.23 | H15: =D15 -> 498.23
A16: 44013 | B16: BACS | C16: Payroll | D16: 1056.22 | H16: =D16 -> 1056.22
A17: 44013 | B17: BACS | C17: Grass Cutting | D17: 1492 | K17: =D17 -> 1492
A18: 44015 | B18: BACS | C18: Payroll Processing - Autella | D18: 82.37 | G18: =D18 -> 82.37
A19: 44022 | B19: BACS | C19: Receipt to bank - Internment fees | E19: 200 | AE19: =E19 -> 200
A20: 44032 | B20: DD | C20: NEST Pension Contributions | D20: 72.17 | H20: =D20 -> 72.17
A21: 44040 | B21: BACS | C21: Receipt to bank - Internment fees | E21: 190 | AE21: =E21 -> 190

Sheet 5.Mthly Income Expend Aug20
C1: THORNTON LE DALE PARISH COUNCIL MONTHLY ACCOUNTS - RUNNING TOTALS TO BANK
C2: Income & Expenditure 1April 2020 to 31st March 2021
D3: Expenditure Total | E3: Income Total | F3: Monthly Income total
C4: Total bank in/out | D4: =SUM(D8:D380) -> 3515.31 | E4: =SUM(E9:E509) -> 29628.92 | F4: =E4-E9 -> 530 | AC4: =SUM(F5:AC5) -> 3515.31 | AN4: =SUM(AE5:AN5) -> 530
C5: Bank balance | D5: =IF(D4>E4,D4-E4,"") | E5: =IF(E4>D4,E4-D4,"") -> 26113.61 | F5: =SUM(F8:F500) -> 0 | G5: =SUM(G8:G500) -> 0 | H5: =SUM(H8:H500) -> 1120.62 | I5: =SUM(I8:I500) -> 365 | J5: =SUM(J8:J500) -> 481 | K5: =SUM(K8:K500) -> 746 | L5: =SUM(L8:L500) -> 378.19 | M5: =SUM(M8:M500) -> 71 | ... AN5: =SUM(AN8:AN500) -> 0
F6: ANALYSIS - BREAKDOWN OF INDIVIDUAL ELEMENT PAYMENTS
A7: Date (Cleared Bank A/C) | B7: Cheq No or Pay'in slip No | C7: Details of item / Description | D7: Payments (outgoings) | E7: Receipts (income) | F7: Institute & Church Clock Maintenance & Repairs | G7: Payroll Processing (Autela Costs) | H7: Payroll Costs, Pension Conts & HMRC & Expenses Paid | I7: Caretaking, village maintenance, inc benches | J7: Cemetery & Churchyard Maintenance | K7: Grass Cutting Contract | L7: Refuse Collection (RDC) & Waste, allotment compost waste , New Bins | M7: Professional & Association Memberships - YLCA, SLCC, ICCM | N7: Training Costs Clerk & Councillors & Study Fees ILCA / CiLCA | O7: Village Green Maintenance costs, railings | P7: Hub Group - Grant, paint, misc. supplies | Q7: Stationery, Stamps, sundry office supplies, books & guides, bulk photocopying | R7: Office Equipment, Laptop, printer & sundry items | S7: Yorkshire Water - Allotments & Cemetery | T7: Annual Audit | U7: BT, Telecoms, Broadband - Clerk Office PO Box fees | V7: Village Defibrillator | W7: Vale of Pickering Drainage Board - Bull Field Costs | X7: Insurance & Professional Fees | Y7: NYCC Streetlighting - upgrades & ongoing Maintenance | Z7: Grants Awarded | AA7: Councillor Expenses Reimburse | AB7: Hill Memorial Institute: Rent, Utilities, Trustees Insurance | AC7: Internal Transfers to Premium Account | AD7: VAT to reclaim | AE7: Income - Cemetery Burials & Memorials & Exclusive Rights | AF7: Income Allotments Annual Rents | AG7: Income - Employment Misc, Expenses refund | AH7: RDC - Precept, CIL Payments | AI7: Bank Interest Received | AJ7: NYCC Refunds Highways Grass Cutting | AK7: Transfer from Reserve / Business Premium Account (balance adjustments between accounts) | AL7: Income - Land Rental Bull Field Roxby Terrace parking space | AM7: Income - Grants NYMNP Caretaker Grant, NYCC Grants | AN7: Income - Insurance Claims Settlements Reimbursements
A9: 44044 | C9: Balance brought forward from 31 July 2020 | E9: ='4.Mnthly Income Expend July20'!E5 -> 29098.92
A10: 44046 | B10: BACS | C10: Royal Mail - PO Box annual fee | D10: 353.5 | U10: =D10 -> 353.5
A11: 44046 | B11: BACS | C11: S Hough - Village Grass Cutting | D11: 746 | K11: =D11 -> 746
A12: 44046 | B12: BACS | C12: Caretaker - Village £365 - Cemetery & Churchyard £481 | D12: 846 | I12: 365 | J12: 481
A13: 44046 | B13: BACS | C13: Payroll | D13: 1042.9 | H13: =D13 -> 1042.9
A14: 44046 | B14: BACS | C14: Receipt to bank - Funeral Director - Internment fees | E14: 200 | AE14: =E14 -> 200
A15: 44047 | B15: BACS | C15: Institute of Cemetery & Crematorium Management - Annual Membership | D15: 71 | M15: =D15 -> 71
A16: 44055 | B16: DD | C16: NEST Pension Contributions | D16: 77.72 | H16: =D16 -> 77.72
A17: 44057 | B17: BACS | C17: Melba Swintex Products - Replacement Rubbins Bins Village | D17: 378.19 | L17: =D17 -> 378.19
A18: 44060 | B18: BACS | C18: Receipt to bank - Funeral Director - Internment fees (ashes) | E18: 330 | AE18: =E18 -> 330

Sheet 6.Mthly Income Expend Sept20
C1: THORNTON LE DALE PARISH COUNCIL MONTHLY ACCOUNTS - RUNNING TOTALS TO BANK
C2: Income & Expenditure 1April 2020 to 31st March 2021
D3: Expenditure Total | E3: Income Total | F3: Monthly Income total
C4: Total bank in/out | D4: =SUM(D8:D378) -> 4544.88 | E4: =SUM(E9:E507) -> 48433.61 | F4: =E4-E9 -> 22320 | AC4: =SUM(F5:AC5) -> 4544.88 | AN4: =SUM(AE5:AN5) -> 22320
C5: Bank balance | D5: =IF(D4>E4,D4-E4,"") | E5: =IF(E4>D4,E4-D4,"") -> 43888.73 | F5: =SUM(F8:F500) -> 0 | G5: =SUM(G8:G500) -> 0 | H5: =SUM(H8:H500) -> 1250.44 | I5: =SUM(I8:I500) -> 442.75 | J5: =SUM(J8:J500) -> 691.25 | K5: =SUM(K8:K500) -> 1492 | L5: =SUM(L8:L500) -> 0 | M5: =SUM(M8:M500) -> 0 | ... AN5: =SUM(AN8:AN500) -> 0
F6: ANALYSIS - BREAKDOWN OF INDIVIDUAL ELEMENT PAYMENTS
A7: Date (Cleared Bank A/C) | B7: Cheq No or Pay'in slip No | C7: Details of item / Description | D7: Payments (outgoings) | E7: Receipts (income) | F7: Institute & Church Clock Maintenance & Repairs | G7: Payroll Processing (Autela Costs) | H7: Payroll Costs, Pension Conts & HMRC & Expenses Paid | I7: Caretaking, village maintenance, inc benches | J7: Cemetery & Churchyard Maintenance | K7: Grass Cutting Contract | L7: Refuse Collection (RDC) & Waste, allotment compost waste, new bins | M7: Professional & Association Memberships - YLCA, SLCC, ICCM | N7: Training Costs Clerk & Councillors & Study Fees ILCA / CiLCA | O7: Village Green Maintenance costs, railings | P7: Hub Group - Grant, paint, misc. supplies | Q7: Stationery, Stamps, sundry office supplies, books & guides, bulk photocopying | R7: I.T - web site, Office Equipment, Laptop, printer & sundry items | S7: Yorkshire Water - Allotments & Cemetery | T7: Annual Audit | U7: BT, Telecoms, Broadband - Clerk Office, PO Box fees | V7: Village Defibrillator | W7: Vale of Pickering Drainage Board - Bull Field Costs | X7: Insurance & Professional Fees | Y7: NYCC Streetlighting - upgrades & ongoing Maintenance | Z7: Grants Awarded | AA7: Councillor Expenses Reimburse | AB7: Hill Memorial Institute: Rent, Utilities, Trustees Insurance | AC7: Internal Transfers to Premium Account | AD7: VAT to reclaim | AE7: Income - Cemetery Burials & Memorials & Exclusive Rights | AF7: Income Allotments Annual Rents | AG7: Income - Employment Misc, Expenses refund | AH7: RDC - Precept, CIL Payments | AI7: Bank Interest Received | AJ7: NYCC Refunds Highways Grass Cutting | AK7: Transfer from Reserve / Business Premium Account (balance adjustments between accounts) | AL7: Income - Land Rental Bull Field Roxby Terrace parking space | AM7: Income - Grants NYMNP Caretaker Grant, NYCC Grants | AN7: Income - Insurance Claims Settlements Reimbursements
A9: 44075 | C9: Balance brought forward from 31 August 2020 | E9: ='5.Mthly Income Expend Aug20'!E5 -> 26113.61
A10: 44075 | B10: BACS | C10: Wardill Bros - Stationery | D10: 23.44 | Q10: =D10 -> 23.44
A11: 44075 | B11: BACS | C11: Image Creation - new web site | D11: 645 | R11: =D11 -> 645
A12: 44075 | B12: BACS | C12: Caretaker (Cemetery & Churchyard £691.25) (Village £442.75) | D12: 1134 | I12: 442.75 | J12: 691.25
A13: 44075 | B13: BACS | C13: Salary / Expenses | D13: 1155.9 | H13: =D13 -> 1155.9
A14: 44075 | B14: BACS | C14: Grass Cutting | D14: 1492 | K14: =D14 -> 1492
A15: 44084 | B15: DD | C15: NEST Pension Contributions | D15: 94.54 | H15: =D15 -> 94.54
A16: 44095 | B16: BACS | C16: Funeral Director Interment fees ( £120 less credit due £70) | E16: 50 | AE16: =E16 -> 50
A17: 44096 | B17: BACS | C17: Ryedale District Council - precept receipt | E17: 22000 | AH17: =E17 -> 22000
A18: 44096 | B18: BACS | C18: Receipt - Funderal Director Interment Fees Ashes | E18: 120 | AE18: =E18 -> 120
A19: 44102 | B19: Cheq | C19: Receipt - cheque Annual Parking Fees - Castlegarth | E19: 150 | AL19: =E19 -> 150

Sheet 7.Mthly Income Expend Oct20
C1: THORNTON LE DALE PARISH COUNCIL MONTHLY ACCOUNTS - RUNNING TOTALS TO BANK
C2: Income & Expenditure 1April 2020 to 31st March 2021
D3: Expenditure Total | E3: Income Total | F3: Monthly Total Income
C4: Total bank in/out | D4: =SUM(D8:D376) -> 20163.76 | E4: =SUM(E9:E505) -> 44248.73 | F4: =E4-E9 -> 360 | AC4: =SUM(F5:AC5) -> 20163.76 | AN4: =SUM(AE5:AN5) -> 360
C5: Bank balance | D5: =IF(D4>E4,D4-E4,"") | E5: =IF(E4>D4,E4-D4,"") -> 24084.97 | F5: =SUM(F8:F500) -> 0 | G5: =SUM(G8:G500) -> 69.61 | H5: =SUM(H8:H500) -> 1717.92 | I5: =SUM(I8:I500) -> 587 | J5: =SUM(J8:J500) -> 673.75 | K5: =SUM(K8:K500) -> 1492 | L5: =SUM(L8:L500) -> 0 | M5: =SUM(M8:M500) -> 0 | ... AN5: =SUM(AN8:AN500) -> 0
F6: ANALYSIS - BREAKDOWN OF INDIVIDUAL ELEMENT PAYMENTS
A7: Date (Cleared Bank A/C) | B7: Cheq No or Pay 'in slip No | C7: Details of item / Description | D7: Payments (outgoings) | E7: Receipts (income) | F7: Institute & Church Clock Maintenance & Repairs | G7: Payroll Processing (Autela Costs) | H7: Payroll Costs, Pension Conts & HMRC & Expenses Paid | I7: Caretaking, village maintenance, inc benches | J7: Cemetery & Churchyard Maintenance | K7: Grass Cutting Contract | L7: Refuse Collection (RDC) & Waste, allotment compost waste, new bins | M7: Professional & Association Memberships - YLCA, SLCC, ICCM | N7: Training Costs Clerk & Councillors & Study Fees ILCA / CiLCA | O7: Village Green Maintenance costs, railings | P7: Hub Group - Grant, paint, misc. supplies | Q7: Stationery, Stamps, sundry office supplies, books & guides, bulk photocopying | R7: Office Equipment, Laptop, printer & sundry items | S7: Yorkshire Water - Allotments & Cemetery | T7: Annual Audit | U7: BT, Telecoms, Broadband - Clerk Office, PO Box fees | V7: Village Defibrillator | W7: Vale of Pickering Drainage Board - Bull Field Costs | X7: Insurance & Professional Fees | Y7: NYCC Streetlighting - upgrades & ongoing Maintenance | Z7: Grants Awarded | AA7: Councillor Expenses Reimburse | AB7: Hill Memorial Institute: Rent, Utilities, Trustees Insurance | AC7: Internal Transfers to Premium Account | AD7: VAT to reclaim | AE7: Income - Cemetery Burials & Memorials & Exclusive Rights | AF7: Income Allotments Annual Rents | AG7: Income - Employment Misc, Expenses refund | AH7: RDC - Precept, CIL Payments | AI7: Bank Interest Received | AJ7: NYCC Refunds Highways Grass Cutting | AK7: Transfer from Reserve / Business Premium Account (balance adjustments between accounts) | AL7: Income - Land Rental Bull Field Roxby Terrace parking space | AM7: Income - Grants NYMNP Caretaker Grant, NYCC Grants | AN7: Income - Insurance Claims Settlements Reimbursements
A9: 44105 | C9: Balance brought forward from 30 September 2020 | E9: ='6.Mthly Income Expend Sept20'!E5 -> 43888.73
A10: 44105 | B10: BACS | C10: BACS payment to Business Stream - Water - Cemetery | D10: 10.37 | S10: =D10 -> 10.37
A11: 44105 | B11: BACS | C11: payment to Wardill Bro - stationery | D11: 23.44 | Q11: =D11 -> 23.44
A12: 44105 | B12: BACS | C12: Autela Payroll processing Q2 | D12: 69.61 | G12: =D12 -> 69.61
A13: 44105 | B13: BACS | C13: JRA Computer Services - repairs to Clerk Laptop | D13: 81 | R13: =D13 -> 81
A14: 44105 | B14: BACS | C14: Business Stream/Scottish Water - Allotments water | D14: 84.76 | S14: =D14 -> 84.76
A15: 44105 | B15: BACS | C15: HMRC - Employers PAYE Contributions Q2 | D15: 385.04 | H15: =D15 -> 385.04
A16: 44105 | B16: BACS | C16: Salaries & Expenses | D16: 1249.93 | H16: =D16 -> 1249.93
A17: 44105 | B17: BACS | C17: Village Caretaking | D17: 1260.75 | I17: 587 | J17: 673.75
A18: 44105 | B18: BACS | C18: Grass Cutting Contract - Sept | D18: 1492 | K18: =D18 -> 1492
A19: 44105 | B19: BACS | C19: North Yorkshire County Council - Streetlighting upgrades Phase 2 | D19: 15423.91 | Y19: =D19 -> 15423.91
A20: 44105 | B20: BACS | C20: Memorial Fee | E20: 30 | AE20: =E20 -> 30
A21: 44117 | B21: DD | C21: NEST Pension Contributions | D21: 82.95 | H21: =D21 -> 82.95
A22: 44118 | B22: BACS | C22: Receipt Fergus Court Funeral Director funeral Fees & Exclusive Rights | E22: 280 | AE22: =E22 -> 280
A23: 44131 | B23: BACS | C23: Receipt - Abbots Memorials - additional inscription | E23: 20 | AE23: =E23 -> 20
A24: 44131 | B24: Cheque | C24: Payment - GR Pinder Memorials - headstone CR151 | E24: 30 | AE24: =E24 -> 30

Sheet 8.Mthly Income Expend Nov20
C1: THORNTON LE DALE PARISH COUNCIL MONTHLY ACCOUNTS - RUNNING TOTALS TO BANK
C2: Income & Expenditure 1April 2020 to 31st March 2021
D3: Expenditure Total | E3: Income Total | F3: Monthly Total Income
C4: Total bank in/out | D4: =SUM(D8:D378) -> 2404.85 | E4: =SUM(E9:E507) -> 24364.97 | F4: =E4-E9 -> 280 | AC4: =SUM(F5:AC5) -> 2404.85 | AN4: =SUM(AE5:AN5) -> 280
C5: Bank balance | D5: =IF(D4>E4,D4-E4,"") | E5: =IF(E4>D4,E4-D4,"") -> 21960.12 | F5: =SUM(F8:F500) -> 0 | G5: =SUM(G8:G500) -> 0 | H5: =SUM(H8:H500) -> 1213.31 | I5: =SUM(I8:I500) -> 462 | J5: =SUM(J8:J500) -> 336 | K5: =SUM(K8:K500) -> 0 | L5: =SUM(L8:L500) -> 0 | M5: =SUM(M8:M500) -> 0 | ... AN5: =SUM(AN8:AN500) -> 0
F6: ANALYSIS - BREAKDOWN OF INDIVIDUAL ELEMENT PAYMENTS
A7: Date (Cleared Bank A/C) | B7: Cheq No or Pay'in slip No | C7: Details of item / Description | D7: Payments (outgoings) | E7: Receipts (income) | F7: Institute & Church Clock Maintenance & Repairs | G7: Payroll Processing (Autela Costs) | H7: Payroll Costs, Pension Conts & HMRC & Expenses Paid | I7: Caretaking, village maintenance, inc benches | J7: Cemetery & Churchyard Maintenance | K7: Grass Cutting Contract | L7: Refuse Collection (RDC) & Waste, allotment compost waste, new bins | M7: Professional & Association Memberships - YLCA, SLCC, ICCM | N7: Training Costs Clerk & Councillors & Study Fees ILCA / CiLCA | O7: Village Green Maintenance costs, railings | P7: Hub Group - Grant, paint, misc. supplies | Q7: Stationery, Stamps, sundry office supplies, books & guides, bulk photocopying | R7: Office Equipment, Laptop, printer & sundry items | S7: Yorkshire Water - Allotments & Cemetery | T7: Annual Audit | U7: BT, Telecoms, Broadband - Clerk Office, PO Box fees | V7: Village Defibrillator | W7: Vale of Pickering Drainage Board - Bull Field Costs | X7: Insurance & Professional Fees | Y7: NYCC Streetlighting - upgrades & ongoing Maintenance | Z7: Grants Awarded | AA7: Councillor Expenses Reimburse | AB7: Hill Memorial Institute: Rent, Utilities, Trustees Insurance | AC7: Internal Transfers to Premium Account | AD7: VAT to reclaim | AE7: Income - Cemetery Burials & Memorials & Exclusive Rights | AF7: Income Allotments Annual Rents | AG7: Income - Employment Misc, Expenses refund | AH7: RDC - Precept, CIL Payments | AI7: Bank Interest Received | AJ7: NYCC Refunds Highways Grass Cutting | AK7: Transfer from Reserve / Business Premium Account (balance adjustments between accounts) | AL7: Income - Land Rental Bull Field Roxby Terrace parking space | AM7: Income - Grants NYMNP Caretaker Grant, NYCC Grants | AN7: Income - Insurance Claims Settlements Reimbursements
A9: 44136 | C9: Balance brought forward from 30 October 2020 | E9: ='7.Mthly Income Expend Oct20'!E5 -> 24084.97
A10: 44137 | B10: BACS | C10: payment to ICCM - Training | D10: 162 | N10: =D10 -> 162 | AD10: 27
A11: 44137 | B11: BACS | C11: payment to David Mitchell - reimbursement costs Defibrillator | D11: 231.54 | V11: =D11 -> 231.54 | AD11: 38.59
A12: 44137 | B12: BACS | C12: Caretaker - Cemetery, Churchyard & Village | D12: 798 | I12: 462 | J12: 336
A13: 44137 | B13: BACS | C13: Salaries & Expenses | D13: 1134.56 | H13: =D13 -> 1134.56
A14: 44140 | B14: BACS | C14: Receipt - JW Myers Memorials | E14: 30 | AE14: =E14 -> 30
A15: 44140 | B15: BACS | C15: Receipt - JW Myers Memorials | E15: 30 | AE15: =E15 -> 30
A16: 44144 | B16: DD | C16: Payment - NEST Pension Contributions | D16: 78.75 | H16: =D16 -> 78.75
A17: 44161 | B17: BACS | C17: Payment - JW Myers Memorials | E17: 30 | AE17: =E17 -> 30
A18: 44165 | B18: BACS | C18: Payment - Interment Fees - Adam Collier FD | E18: 190 | AE18: =E18 -> 190

Sheet 9.Mthly Income Expend Dec20
C1: THORNTON LE DALE PARISH COUNCIL MONTHLY ACCOUNTS - RUNNING TOTALS TO BANK
C2: Income & Expenditure 1April 2020 to 31st March 2021
D3: Expenditure Total | E3: Income Total | F3: Monthly Total Income
C4: Total bank in/out | D4: =SUM(D8:D376) -> 2837.64 | E4: =SUM(E9:E505) -> 22250.12 | F4: =E4-E9 -> 290 | AC4: =SUM(F5:AC5) -> 2837.64 | AN4: =SUM(AE5:AN5) -> 290
C5: Bank balance | D5: =IF(D4>E4,D4-E4,"") | E5: =IF(E4>D4,E4-D4,"") -> 19412.48 | F5: =SUM(F8:F500) -> 0 | G5: =SUM(G8:G500) -> 0 | H5: =SUM(H8:H500) -> 1170.24 | I5: =SUM(I8:I500) -> 500.5 | J5: =SUM(J8:J500) -> 96.25 | K5: =SUM(K8:K500) -> 0 | L5: =SUM(L8:L500) -> 0 | M5: =SUM(M8:M500) -> 0 | ... AN5: =SUM(AN8:AN500) -> 0
F6: ANALYSIS - BREAKDOWN OF INDIVIDUAL ELEMENT PAYMENTS
A7: Date (Cleared Bank A/C) | B7: Cheq No or Pay'in slip No | C7: Details of item / Description | D7: Payments (outgoings) | E7: Receipts (income) | F7: Institute & Church Clock Maintenance & Repairs | G7: Payroll Processing (Autela Costs) | H7: Payroll Costs, Pension Conts & HMRC & Expenses Paid | I7: Caretaking, village maintenance, inc benches | J7: Cemetery & Churchyard Maintenance | K7: Grass Cutting Contract | L7: Refuse Collection (RDC) & Waste, allotment compost waste, new bins | M7: Professional & Association Memberships - YLCA, SLCC, ICCM | N7: Training Costs Clerk & Councillors & Study Fees ILCA / CiLCA | O7: Village Green Maintenance costs, railings | P7: Hub Group - Grant, paint, misc. supplies | Q7: Stationery, Stamps, sundry office supplies, books & guides, bulk photocopying | R7: Office Equipment, Laptop, printer & sundry items | S7: Yorkshire Water - Allotments & Cemetery | T7: Annual Audit | U7: BT, Telecoms, Broadband - Clerk Office, PO Box fees | V7: Village Defibrillator | W7: Vale of Pickering Drainage Board - Bull Field Costs | X7: Insurance & Professional Fees | Y7: NYCC Streetlighting - upgrades & ongoing Maintenance | Z7: Grants Awarded | AA7: Councillor Expenses Reimburse | AB7: Hill Memorial Institute: Rent, Utilities, Trustees Insurance | AC7: Internal Transfers to Premium Account | AD7: VAT to reclaim | AE7: Income - Cemetery Burials & Memorials & Exclusive Rights | AF7: Income Allotments Annual Rents | AG7: Income - Employment Misc, Expenses refund | AH7: RDC - Precept, CIL Payments | AI7: Bank Interest Received | AJ7: NYCC Refunds Highways Grass Cutting | AK7: Internal Transfers between bank accounts | AL7: Income - Land Rental Bull Field Roxby Terrace parking space | AM7: Income - Grants NYMNP Caretaker Grant, NYCC Grants | AN7: Income - Insurance Claims Settlements Reimbursements
A9: 44166 | C9: Balance brought forward from 30 November 2020 | E9: ='8.Mthly Income Expend Nov20'!E5 -> 21960.12
A10: 44166 | B10: BACS | C10: Payment to Thornton le Dale Hub - paint supplies reimburse | D10: 106.65 | P10: =D10 -> 106.65
A11: 44166 | B11: BACS | C11: Payment - Caretaker - Cemetery & Church, Village | D11: 596.75 | I11: 500.5 | J11: 96.25
A12: 44166 | B12: BACS | C12: Gallagher - Came & Co Annual Insurance Renewal | D12: 964 | X12: =D12 -> 964
A13: 44166 | B13: BACS | C13: Salaries & Expenses | D13: 1088.74 | H13: =D13 -> 1088.74
A14: 44167 | B14: BACS | C14: EROB Purchase - Cremated Remains - Adam Collier FD | E14: 90 | AE14: =E14 -> 90
A15: 44172 | B15: DD | C15: NEST Pension Contributions | D15: 81.5 | H15: =D15 -> 81.5
A16: 44181 | B16: BACS | C16: Receipt BACS Funeral Director funeral costs | E16: 200 | AE16: =E16 -> 200

Sheet 10.Mthly Income Expend Jan2021
C1: THORNTON LE DALE PARISH COUNCIL MONTHLY ACCOUNTS - RUNNING TOTALS TO BANK
C2: Income & Expenditure 1April 2020 to 31st March 2021
D3: Expenditure Total | E3: Income Total | F3: Monthly Total Income
C4: Total bank in/out | D4: =SUM(D8:D378) -> 2220.14 | E4: =SUM(E9:E507) -> 19692.48 | F4: =E4-E9 -> 280 | AD4: =SUM(F5:AD5) -> 2220.14 | AO4: =SUM(AF5:AO5) -> 280
C5: Bank balance | D5: =IF(D4>E4,D4-E4,"") | E5: =IF(E4>D4,E4-D4,"") -> 17472.34 | F5: =SUM(F8:F500) -> 0 | G5: =SUM(G8:G500) -> 69.61 | H5: =SUM(H8:H500) -> 1580.83 | I5: =SUM(I8:I500) -> 211.75 | J5: =SUM(J8:J500) -> 96.25 | K5: =SUM(K8:K500) -> 0 | L5: =SUM(L8:L500) -> 0 | M5: =SUM(M8:M500) -> 0 | ... AO5: =SUM(AO8:AO500) -> 250
F6: ANALYSIS - BREAKDOWN OF INDIVIDUAL ELEMENT PAYMENTS
A7: Date (Cleared Bank A/C) | B7: Cheq No or Pay'in slip No, BACS or Transfer | C7: Details of item / Description | D7: Payments (outgoings) | E7: Receipts (income) | F7: Institute & Church Clock Maintenance & Repairs | G7: Payroll Processing (Autela Costs) | H7: Payroll Costs, Pension Conts & HMRC & Expenses Paid | I7: Caretaking, village maintenance, inc benches | J7: Cemetery & Churchyard Maintenance | K7: Grass Cutting Contract | L7: Refuse Collection (RDC) & Waste, allotment compost waste, new bins | M7: Professional & Association Memberships - YLCA, SLCC, ICCM | N7: Training Costs Clerk & Councillors & Study Fees ILCA / CiLCA | O7: Village Green Maintenance costs, railings | P7: Hub Group - Grant, paint, misc. supplies | Q7: Stationery, Stamps, sundry office supplies, books & guides, bulk photocopying | R7: Office Equipment, Laptop, printer & sundry items | S7: Yorkshire Water - Allotments & Cemetery | T7: Annual Audit | U7: BT, Telecoms, Broadband - Clerk Office, PO Box fees | V7: Village Defibrillator | W7: Vale of Pickering Drainage Board - Bull Field Costs | X7: Insurance & Professional Fees | Y7: NYCC Streetlighting - upgrades & ongoing Maintenance | Z7: Grants Awarded | AA7: Councillor Expenses Reimburse | AB7: Hill Memorial Institute: Rent, Utilities, Trustees Insurance | AC7: Advertising Costs - Tenders, Recruitment | AD7: Internal Transfers to Premium Account | AE7: VAT to reclaim | AF7: Income - Cemetery Burials & Memorials & Exclusive Rights | AG7: Income Allotments Annual Rents | AH7: Income - Employment Misc, Expenses refund | AI7: RDC - Precept, CIL Payments | AJ7: Bank Interest Received | AK7: NYCC Refunds Highways Grass Cutting | AL7: Internal bank account transfers | AM7: Income - Land Rental Bull Field Roxby Terrace parking space | AN7: Income - Grants NYMNP Caretaker Grant, NYCC Grants | AO7: Income - Insurance Claims Settlements Reimbursements
A9: 44197 | C9: Balance brought forward from 31 December 2020 | E9: ='9.Mthly Income Expend Dec20'!E5 -> 19412.48
A10: 44200 | B10: BACS | C10: Payment - Business Stream Water - Cemetery | D10: 8.26 | S10: =D10 -> 8.26
A11: 44200 | B11: BACS | C11: Reimburse Cllr Sanderson - Remembrance Wreath | D11: 20 | AA11: =D11 -> 20
A12: 44200 | B12: BACS | C12: Hill Memorial Institure - meeting room rental | D12: 40.5 | AB12: =D12 -> 40.5
A13: 44200 | B13: BACS | C13: Handy Mag - Tender Advert Jan21 | D13: 58.8 | AC13: =D13 -> 58.8
A14: 44200 | B14: BACS | C14: Autela Payroll - payroll processing Q3 | D14: 69.61 | G14: =D14 -> 69.61
A15: 44200 | B15: BACS | C15: Socttish Water - Business Stream - Water Allotments | D15: 134.14 | S15: =D15 -> 134.14
A16: 44200 | B16: BACS | C16: Caretaker - Village, Cemetery & Churchyard | D16: 308 | I16: 211.75 | J16: 96.25
A17: 44200 | B17: BACS | C17: HMRS - Employer PAYE Contributions - Q3 | D17: 378.55 | H17: =D17 -> 378.55
A18: 44200 | B18: BACS | C18: Payroll - Salaries & Expenses | D18: 1128.16 | H18: =D18 -> 1128.16
A19: 44207 | B19: DD | C19: NEST Pension Contributions | D19: 74.12 | H19: =D19 -> 74.12
A20: 44207 | B20: cheque | C20: Cheque deposit to Bank - Memorial inscription | E20: 30 | AF20: =E20 -> 30
A21: 44224 | B21: BACS | C21: Credit from AXA Insurance - excess refund - Villiage Railings claim 2020 | E21: 250 | AO21: =E21 -> 250

Sheet 11.Mthly Income Expend Feb21
C1: THORNTON LE DALE PARISH COUNCIL MONTHLY ACCOUNTS - RUNNING TOTALS TO BANK
C2: Income & Expenditure 1April 2020 to 31st March 2021
D3: Expenditure Total | E3: Income Total
C4: Total bank in/out | D4: =SUM(D8:D376) -> 1965.08 | E4: =SUM(E9:E505) -> 17597.34
C5: Bank balance | D5: =IF(D4>E4,D4-E4,"") | E5: =IF(E4>D4,E4-D4,"") -> 15632.26 | F5: =SUM(F8:F500) -> 391.2 | G5: =SUM(G8:G500) -> 0 | H5: =SUM(H8:H500) -> 1107.38 | I5: =SUM(I8:I500) -> 327.25 | J5: =SUM(J8:J500) -> 139.25 | K5: =SUM(K8:K500) -> 0 | L5: =SUM(L8:L500) -> 0 | M5: =SUM(M8:M500) -> 0 | ... AO5: =SUM(AO8:AO500) -> 0
F6: ANALYSIS - BREAKDOWN OF INDIVIDUAL ELEMENT PAYMENTS
A7: Date (Cleared Bank A/C) | B7: Cheq No or Pay'in slip No, BACS or Transfer | C7: Details of item / Description | D7: Payments (outgoings) | E7: Receipts (income) | F7: Institute & Church Clock Maintenance & Repairs | G7: Payroll Processing (Autela Costs) | H7: Payroll Costs, Pension Conts & HMRC & Expenses Paid | I7: Caretaking, village maintenance, inc benches | J7: Cemetery & Churchyard Maintenance | K7: Grass Cutting Contract | L7: Refuse Collection (RDC) & Waste, allotment compost waste, new bins | M7: Professional & Association Memberships - YLCA, SLCC, ICCM | N7: Training Costs Clerk & Councillors & Study Fees ILCA / CiLCA | O7: Village Green Maintenance costs, railings | P7: Hub Group - Grant, paint, misc. supplies | Q7: Stationery, Stamps, sundry office supplies, books & guides, bulk photocopying | R7: Office Equipment, Laptop, printer & sundry items | S7: Yorkshire Water - Allotments & Cemetery | T7: Annual Audit | U7: BT, Telecoms, Broadband - Clerk Office, PO Box fees | V7: Village Defibrillator | W7: Vale of Pickering Drainage Board - Bull Field Costs | X7: Insurance & Professional Fees | Y7: NYCC Streetlighting - upgrades & ongoing Maintenance | Z7: Grants Awarded | AA7: Councillor Expenses Reimburse | AB7: Hill Memorial Institute: Rent, Utilities, Trustees Insurance | AC7: Advertising Costs - Tenders, Recruitment | AD7: Internal Transfers to Premium Account | AE7: VAT to reclaim | AF7: Income - Cemetery Burials & Memorials & Exclusive Rights | AG7: Income Allotments Annual Rents | AH7: Income - Employment Misc, Expenses refund | AI7: RDC - Precept, CIL Payments | AJ7: Bank Interest Received | AK7: NYCC Refunds Highways Grass Cutting | AL7: Internal Transfers between bank accounts | AM7: Income - Land Rental Bull Field Roxby Terrace parking space | AN7: Income - Grants NYMNP Caretaker Grant, NYCC Grants | AO7: Income - Insurance Claims Settlements Reimbursements
A9: 44228 | C9: Balance brought forward from 31 January 2021 | E9: ='10.Mthly Income Expend Jan2021'!E5 -> 17472.34
A10: 44228 | B10: BACS | C10: payment - Caretaker Village, Church & Cemetery | D10: 346.5 | I10: 327.25 | J10: 19.25
A11: 44228 | B11: BACS | C11: Smith's of Derby - Annual Clock Services | D11: 391.2 | F11: =D11 -> 391.2
A12: 44228 | B12: BACS | C12: Salary & Expenses | D12: 1033.26 | H12: =D12 -> 1033.26
A13: 44228 | B13: BACS | C13: Cemetery Hedge Cutting - Bosomworth | D13: 120 | J13: =D13 -> 120
A14: 44237 | B14: DD | C14: NEST Pension Contirbutions | D14: 74.12 | H14: =D14 -> 74.12
A15: 44243 | B15: Cheq | C15: Receipt to bank cheque - Myers Memorials ESE57 | E15: 125 | AF15: =E15 -> 125

Sheet 12.Mthly Income Expend March21
C1: THORNTON LE DALE PARISH COUNCIL MONTHLY ACCOUNTS - RUNNING TOTALS TO BANK
C2: Income & Expenditure 1April 2020 to 31st March 2021
D3: Expenditure Total | E3: Income Total
C4: Total bank in/out | D4: =SUM(D8:D377) -> 1759.11 | E4: =SUM(E9:E506) -> 21217.67
C5: Bank balance | D5: =IF(D4>E4,D4-E4,"") | E5: =IF(E4>D4,E4-D4,"") -> 19458.56 | F5: =SUM(F8:F500) -> 0 | G5: =SUM(G8:G500) -> 0 | H5: =SUM(H8:H500) -> 1134.86 | I5: =SUM(I8:I500) -> 404.25 | J5: =SUM(J8:J500) -> 0 | K5: =SUM(K8:K500) -> 0 | L5: =SUM(L8:L500) -> 0 | M5: =SUM(M8:M500) -> 166 | ... AP5: =SUM(AP8:AP500) -> 0
F6: ANALYSIS - BREAKDOWN OF INDIVIDUAL ELEMENT PAYMENTS
A7: Date (Cleared Bank A/C) | B7: Cheq No or Pay'in slip No, BACS or Transfer | C7: Details of item / Description | D7: Payments (outgoings) | E7: Receipts (income) | F7: Institute & Church Clock Maintenance & Repairs | G7: Payroll Processing (Autela Costs) | H7: Payroll Costs, Pension Conts & HMRC & Expenses Paid | I7: Caretaking, village maintenance, inc benches | J7: Cemetery & Churchyard Maintenance | K7: Grass Cutting Contract | L7: Refuse Collection (RDC) & Waste, allotment compost waste , new bins | M7: Professional & Association Memberships - YLCA, SLCC, ICCM | N7: Training Costs Clerk & Councillors & Study Fees ILCA / CiLCA | O7: Village Green Maintenance costs, railings | P7: Hub Group - Grant, paint, misc supplies, room hire | Q7: Stationery, Stamps, sundry office supplies, books & guides, bulk photocopying | R7: Office Equipment, Laptop, printer & sundry items | S7: Yorkshire Water - Allotments & Cemetery | T7: Annual Audit | U7: BT, Telecoms, Broadband - Clerk Office, PO Box fees | V7: Village Defibrillator | W7: Vale of Pickering Drainage Board - Bull Field Costs | X7: Insurance & Professional Fees | Y7: NYCC Streetlighting - upgrades & ongoing Maintenance | Z7: Grants Awarded | AA7: Councillor Expenses Reimburse | AB7: Hill Memorial Institute: Rent, Utilities, Trustees Insurance | AC7: Advertising Costs - Tenders, Recruitment | AD7: Internal Transfers to Bus Account | AE7: VAT to reclaim | AF7: Income - Cemetery Burials & Memorials & Exclusive Rights | AG7: Income Allotments Annual Rents | AH7: Income - Employment Misc, Expenses refund | AI7: RDC - Precept, CIL Payments | AJ7: Bank Interest Received | AK7: NYCC Refunds Highways Grass Cutting | AL7: Internal Transfers - bank accounts | AM7: Income - Land Rental Bull Field Roxby Terrace parking space | AN7: Income - Grants NYMNP Caretaker Grant, NYCC Grants | AO7: Income HMRC VAT Reclaim | AP7: Income - Insurance Claims Settlements Reimbursements
A9: 44256 | C9: Balance brought forward from 28th February 2021 | E9: ='11.Mthly Income Expend Feb21'!E5 -> 15632.26
A10: 44256 | B10: BACS | C10: TLD Village Hub - Grant Room Hire | D10: 54 | P10: =D10 -> 54
A11: 44256 | B11: BACS | C11: Caretaker - village | D11: 404.25 | I11: =D11 -> 404.25
A12: 44256 | B12: BACS | C12: Payroll & Expenses | D12: 1058.98 | H12: =D12 -> 1058.98
A13: 44256 | B13: BACS | C13: SLCC - Annual Membership Fees | D13: 166 | M13: =D13 -> 166
A14: 44263 | B14: DD | C14: NEST Pension Contributions | D14: 75.88 | H14: =D14 -> 75.88
A15: 44263 | B15: BACS | C15: Receipt to bank - HMRC VAT Refund Claim | E15: 3210.41 | AO15: =E15 -> 3210.41
A16: 44263 | B16: Cheq | C16: Cheque to bank - Interment Fees - Hill NW291 | E16: 400 | AF16: =E16 -> 400
A17: 44265 | B17: BACS | C17: Receipt to bank - Bull Field Annual Rental 1April2021 to 31March2022 | E17: 535 | AM17: =E17 -> 535
A18: 44266 | B18: BACS | C18: Receipt to bank - Allotment Rental - Plot 33 | E18: 40 | AG18: =E18 -> 40
A19: 44266 | B19: BACS | C19: Receipt to bank - Allotment Rental - Plot32 | E19: 40 | AG19: =E19 -> 40
A20: 44267 | B20: BACS | C20: Receipt to bank - Alltoment Rental Plot 8 | E20: 40 | AG20: =E20 -> 40
A21: 44267 | B21: BACS | C21: Receipt to bank - Allotment Rental Plot 13 | E21: 40 | AG21: =E21 -> 40
A22: 44267 | B22: BACS | C22: Receipt to bank - Allotment Rental Plot 39 | E22: 40 | AG22: =E22 -> 40
A23: 44267 | B23: BACS | C23: Receipt to bank - Allotment Renatl Plot 36 | E23: 40 | AG23: =E23 -> 40
A24: 44267 | B24: BACS | C24: Receipt to bank - Alltoment Rental Plot 38 | E24: 40 | AG24: =E24 -> 40
A25: 44270 | B25: BACS | C25: Receipt to bank - Allotment Rental Plot 2B | E25: 20 | AG25: =E25 -> 20
A26: 44271 | B26: BACS | C26: Receipt to bank - Allotment Rental Plot 5 | E26: 40 | AG26: =E26 -> 40
A27: 44272 | B27: BACS | C27: Receipt to bank - Allotment Rental Plot 9 | E27: 40 | AG27: =E27 -> 40
A28: 44273 | B28: BACS | C28: Receipt to bank - Allotment Rental Plot 29 | E28: 40 | AG28: =E28 -> 40
A29: 44274 | B29: BACS | C29: Receipt to bank - Allotment Rental Plot 15 | E29: 40 | AG29: =E29 -> 40
... A42: 44285 | B42: BACS | C42: Receipt to bank - Allotment Rental Plot 31A | E42: 20 | AG42: =E42 -> 20

Sheet Mthly Totals YTD 2020-2021
C3: YEAR TO DATE TOTALS SHEET | D3: Expenditure Total | E3: Income Total | F3: Monthly Totals
C4: Total bank in/out | D4: =SUM(D8:D628) -> 55708.99 | E4: =SUM(E9:E757) -> 75167.55 | F4: =E4-E9 -> 57370.79 | AD4: =SUM(F5:AD5) -> 55708.99 | AP4: =SUM(AF5:AP5) -> 57370.79
C5: Bank balance | D5: =IF(D4>E4,D4-E4,"") | E5: =IF(E4>D4,E4-D4,"") -> 19458.56 | F5: =SUM(F8:F648) -> 391.2 | G5: =SUM(G8:G648) -> 291.2 | H5: =SUM(H8:H648) -> 15947.35 | I5: =SUM(I8:I648) -> 4748.88 | J5: =SUM(J8:J648) -> 4293.12 | K5: =SUM(K8:K648) -> 8952 | L5: =SUM(L8:L648) -> 378.19 | M5: =SUM(M8:M648) -> 961 | ... AP5: =SUM(AP8:AP648) -> 250
F6: ANALYSIS - BREAKDOWN OF INDIVIDUAL ELEMENT PAYMENTS
A7: Date (Cleared Bank A/C) | B7: Cheq No or Pay'in slip No | C7: Details of item / Description | D7: Payments (outgoings) | E7: Receipts (income) | F7: Institute & Church Clock Maintenance & Repairs | G7: Payroll Processing (Autela Costs) | H7: Payroll Costs, Pension Conts & HMRC & Expenses Paid | I7: Caretaking, village maintenance, inc benches | J7: Cemetery & Churchyard Maintenance | K7: Grass Cutting Contract | L7: Refuse Collection (RDC) & Waste, allotment compost waste , new bins | M7: Professional & Association Memberships - YLCA, SLCC, ICCM | N7: Training Costs Clerk & Councillors & Study Fees ILCA / CiLCA | O7: Village Green Maintenance costs, railings | P7: Hub Group - Grant, paint, misc. supplies | Q7: Stationery, Stamps, sundry office supplies, books & guides, bulk photocopying | R7: I.T - web site, Office Equipment, Laptop, printer & sundry items | S7: Yorkshire Water - Allotments & Cemetery | T7: Annual Audit | U7: BT, Telecoms, Broadband - Clerk Office, PO Box fees | V7: Village Defibrillator | W7: Vale of Pickering Drainage Board - Bull Field Costs | X7: Insurance & Professional Fees | Y7: NYCC Streetlighting - upgrades & ongoing Maintenance | Z7: Grants Awarded | AA7: Councillor Expenses Reimburse | AB7: Hill Memorial Institute: Rent, Utilities, Trustees Insurance | AC7: Advertising Costs - Tenders, Recruitment | AD7: Internal Transfers to Premium Account | AE7: VAT to reclaim | AF7: Income - Cemetery Burials & Memorials & Exclusive Rights | AG7: Income Allotments Annual Rents | AH7: Income - Employment Misc, Expenses refund | AI7: RDC - Precept, CIL Payments | AJ7: Bank Interest Received | AK7: NYCC Refunds Highways Grass Cutting | AL7: Internal bank transfers | AM7: Income - Land Rental Bull Field Roxby Terrace parking space | AN7: Income - HMRC VAT Reclaim | AO7: Income - Grants NYMNP Caretaker Grant, NYCC Grants | AP7: Income - Insurance Claims Settlements Reimbursements
A9: 43922 | C9: Balance brought forward from 31March2020 | E9: 17796.76
A10: 43922 | B10: BACS | C10: Payroll - Salary & Expenses | D10: 1141.24 | H10: =D10 -> 1141.24
A11: 43922 | B11: BACS | C11: SLCC - Annual Membership - Clerk Professional Body | D11: 161 | M11: =D11 -> 161
A12: 43922 | B12: BACS | C12: HMRC - PAYE Contributions Q4 | D12: 201.14 | H12: =D12 -> 201.14
A13: 43922 | B13: BACS | C13: YLCA - Association Membership - Annual fee | D13: 563 | M13: =D13 -> 563
A14: 43922 | B14: BACS | C14: Caretaker - Churchyard & Cemetery (£768.75) Village Caretaking (£525.00) | D14: 1293.75 | I14: 525 | J14: 768.75
A15: 43922 | B15: BACS | C15: Autela Payroll Services - Payroll Processing Q4 | D15: 69.61 | G15: =D15 -> 69.61 | AE15: 11.6
A16: 43922 | B16: BACS | C16: Vale of Pickering Internal Drainage Board - Agricultural Drainage Rates - Bull Field - 1.871 acres (0.757 hectares) | D16: 9.42 | W16: =D16 -> 9.42
A17: 43922 | B17: BACS | C17: Grass Cutting - S Hough - 1st Cut 2020 - 25March20 | D17: 746 | K17: =D17 -> 746
A18: 43922 | B18: BACS | C18: Thornton Dale Bowling Club - Grant processing (contribuiton to water boiler) | D18: 200 | Z18: =D18 -> 200
A19: 43922 | B19: BACS | C19: Business Stream (Water supplier) Allotments (£65.88) Cemetery (£8.57) | D19: 74.45 | S19: =D19 -> 74.45
A20: 43927 | B20: BACS | C20: Receipt direct to bank - Bull Field Annual Rental 2020/21 | E20: 535 | AM20: =E20 -> 535
A21: 43935 | B21: BACS | C21: Receipt direct to bank - Allotment new rental Plot21 | E21: 35 | AG21: =E21 -> 35
A22: 43935 | B22: BACS | C22: Receipt direct to bank - Exclusive Rights of Burial - Preston | E22: 90 | AF22: =E22 -> 90
A23: 43937 | B23: cheques | C23: cheq payments allotment Rental - plots 20, 24, 19, 22, 17 & 18 | E23: 210 | AG23: =E23 -> 210
A24: 43938 | B24: BACS | C24: Adam Collier Funeral Directors - internment / exclusive rights fees | E24: 90 | AF24: =E24 -> 90
A25: 43941 | B25: BACS | C25: Receipt direct to bank - Allotment Rental - plot34 | E25: 35 | AG25: =E25 -> 35
A26: 43942 | B26: DD | C26: NEST Pension contributions - Employment | D26: 114.58 | H26: =D26 -> 114.58
A27: 43948 | B27: BACS | C27: Receipt direct to bank - Allotment rental - new tenant plot 29 | E27: 35 | AG27: =E27 -> 35
A28: 43948 | B28: BACS | C28: Receipt direct to Bank - 1st Precept Payment 2020 /21 Ryedale District Council | E28: 22000 | AI28: =E28 -> 22000
A29: 43955 | B29: BACS | C29: Payroll - Salary & Expenses | D29: 1407.21 | H29: =D29 -> 1407.21
A30: 43955 | B30: BACS | C30: Wardill Bros - stationery / stamps | D30: 83.24 | Q30: =D30 -> 83.24
A31: 43955 | B31: BACS | C31: Caretaker - Churchyard & Cemetery (£673.75) Village Caretaking (£625.00) | D31: 1298.75 | I31: 625 | J31: 673.75
A32: 43955 | B32: BACS | C32: Grass Cutting - S Hough - April 2 x cuts 8th & 21st April | D32: 1492 | K32: =D32 -> 1492
A33: 43963 | B33: DD | C33: NEST Pension Contributions | D33: 72.17 | H33: =D33 -> 72.17
A34: 43963 | B34: BACS | C34: Receipt from MOP Allotment Rent Plot39 | E34: 35 | AG34: =E34 -> 35
A35: 43983 | B35: BACS | C35: BACS receipt North York County Council - refund for grass verge cutting visibility splays - annual | E35: 775.38 | AK35: =E35 -> 775.38
A36: 43984 | B36: BACS | C36: BACS Payment to NYCC - streetlighting repairs - annual - 2019 / 2020 | D36: 433.04 | Y36: =D36 -> 433.04 | AE36: 72.17
A37: 43984 | B37: BACS | C37: Caretaker - monthly invoice | D37: 635.25 | I37: 298.38 | J37: 336.87
A38: 43984 | B38: BACS | C38: Payroll | D38: 1013.89 | H38: =D38 -> 1013.89
A39: 43984 | B39: BACS | C39: S Hough - Village Grass Cutting | D39: 1492 | K39: =D39 -> 1492
A40: 43984 | B40: BACS | C40: BACS receipt from North York Moor NP - Caretaker Grant Scheme annual | E40: 2500 | AO40: =E40 -> 2500
A41: 43986 | B41: 100015 | C41: Cheque payment - RH Barnes - Internment fees | E41: 120 | AF41: =E41 -> 120
A42: 43986 | B42: 100014 | C42: Cheque payment - RH Barnes - Internment fees | E42: 380 | AF42: =E42 -> 380
A43: 43991 | B43: DD | C43: NEST Pension Contributions | D43: 74.9 | H43: =D43 -> 74.9
...

Sheet Business Premium AC
C1: THORNTON LE DALE PARISH COUNCIL MONTHLY ACCOUNTS - RUNNING TOTALS TO BANK
C2: Business Premium Account - Holding account (not transactional income & expenditure)
D4: YEAR TO DATE TOTALS SHEET | E4: Expenditure Total | F4: Income Total
D5: Total bank in/out | E5: =SUM(E10:E548) -> 0 | F5: =SUM(F10:F677) -> 41691.84
D6: Bank balance | E6: =IF(E5>F5,E5-F5,"") | F6: =IF(F5>E5,F5-E5,"") -> 41691.84
G8: =SUM(G10:G530) -> 13.29
B9: Date (Cleared Bank A/C) | C9: Cheq No or Pay'in slip No | D9: Details of item / Description (Business Premium A/C - Transfers only ) | E9: Payments (outgoings) | F9: Receipts (income) | G9: Total Interest
B10: 43804 | D10: Account Opened | F10: 0
B11: 43895 | C11: Transfer | D11: Transfer from Barclays Current a/c | F11: 20000
B12: 43986 | C12: Transfer | D12: Transfer from Skipton Building Society - closed account | F12: 21678.55
B13: 43990 | D13: Interest received | F13: 5.44 | G13: =F13 -> 5.44
B14: 44081 | D14: Interest received | F14: 5.77 | G14: =F14 -> 5.77
B15: 44172 | D15: Interest received | F15: 1.04 | G15: =F15 -> 1.04
B16: 44263 | D16: Interest received | F16: 1.04 | G16: =F16 -> 1.04

Sheet Monthly Payment List BACS & VAT
B1: Thornton le Dale Parish Council - Monthly Cheque Payment Schedules Financial Year 1st April 2020 to 31st March 2021
D3: VAT last claimed as of 31st Jan 2020 - as at 19th May 2020
G4: VAT Ref No: UB 3630
D5: January 2020 Invoices payments
B6: Cheq/ BACS Date | C6: Cheq Num | D6: Descripton of Payment | E6: Amount | F6: VAT | G6: VAT Reg No:
B7: 43861 | C7: BACS | D7: Payroll - Salary & Expenses - Clerk | E7: 939.62 | F7: 0
B8: 43861 | C8: BACS | D8: Hill Memorial Institute - Rental, Utilities, Trustee Insurance | E8: 375.7 | F8: 0
B9: 43861 | C9: BACS | D9: Caretaker - Churchyard & Cemetery (£75.00 ) Village (£468.75 ) | E9: 543.75 | F9: 0
D10: Total Payments for February 2020 | E10: =SUM(E7:E9) -> 1859.07 | F10: =SUM(F7:F9) -> 0
D11: Signature: Chair / Vice-Chair: …..................................................................
D13: February 2020 Invoices to pay BACS 2nd March
B14: Cheq/ BACS Date | C14: Cheq Num | D14: Description of Payment | E14: Amount | F14: VAT | G14: VAT Reg No:
B15: 43892 | C15: BACS | D15: Payroll - Salary & Expenses - Clerk | E15: 953 | F15: 0
B16: 43892 | C16: BACS | D16: Smith's of Derby - Annual Clock Services & Church Clock Fault - Institute £176.40 Church Clock £282.00 | E16: 458.4 | F16: 76.4 | G16: 125677259
B17: 43892 | C17: BACS | D17: Gwillliam Recycling - Compost Heap Removal Allotments | E17: 1080 | F17: 180 | G17: 337608641
B18: 43892 | C18: BACS | D18: Caretaker - Churchyard & Cemetery (£187.50) Village Green works (£429.25) Village Caretaking ( £412.50) | E18: 1029.25 | F18: 0
B19: 43892 | C19: BACS | D19: Wardill Bros - photocopying (allotment agreements) & stationery | E19: 68.68 | F19: 11.47 | G19: 167 7765 11
D20: Total Payments | E20: =SUM(E15:E19) -> 3589.33 | F20: =SUM(F15:F19) -> 267.87
D22: Signature: Chair / Vice-Chair: …..................................................................
D24: March 2020 Invoices to pay BACS 1st April
B25: Cheq/ BACS Date | C25: Cheq Num | D25: Description of Payment | E25: Amount | F25: VAT | G25: VAT Reg No:
B26: 43922 | C26: BACS | D26: Payroll - Salary & Expenses | E26: 1141.24 | F26: 0
B27: 43922 | C27: BACS | D27: SLCC - Annual Membership - Clerk Professional Body | E27: 161 | F27: 0
B28: 43922 | C28: BACS | D28: HMRC - PAYE Contributions Q4 | E28: 201.14 | F28: 0
B29: 43922 | C29: BACS | D29: YLCA - Association Membership - Annual fee | E29: 563 | F29: 0
B30: 43922 | C30: BACS | D30: Caretaker - Churchyard & Cemetery (£768.75) Village Caretaking (£525.00) | E30: 1293.75 | F30: 0
B31: 43922 | C31: BACS | D31: Autela Payroll Services - Payroll Processing Q4 | E31: 69.61 | F31: 11.6 | G31: 326 5974 72
B32: 43922 | C32: BACS | D32: Vale of Pickering Internal Drainage Board - Agricultural Drainage Rates - Bull Field - 1.871 acres (0.757 hectares) | E32: 9.42 | F32: 0
B33: 43922 | C33: BACS | D33: Grass Cutting - S Hough - 1st Cut 2020 - 25March20 | E33: 746 | F33: 0
B34: 43922 | C34: BACS | D34: Thornton Dale Bowling Club - Grant processing (contribuiton to water boiler) | E34: 200 | F34: 0
B35: 43922 | C35: BACS | D35: Business Stream (Water supplier) Allotments (£65.88) Cemetery (£8.57) | E35: 74.45 | F35: 0
D36: Total Payments | E36: =SUM(E26:E35) -> 4459.61 | F36: =SUM(F26:F35) -> 11.6
D38: Signature: Chair / Vice-Chair: …..................................................................
D40: April 2020 Invoices to BACS pay online May
B41: Cheq/ BACS Date | C41: Cheq Num | D41: Description of Payment | E41: Amount | F41: VAT | G41: VAT Reg No:
B42: 43955 | C42: BACS | D42: Payroll - Salary & Expenses | E42: 1407.21 | F42: 0
B43: 43955 | C43: BACS | D43: Wardill Bros - stationery / stamps | E43: 83.24 | F43: 0
B44: 43955 | C44: BACS | D44: Caretaker - Churchyard & Cemetery (£673.75) Village Caretaking (£625.00) | E44: 1298.75 | F44: 0
B45: 43955 | C45: BACS | D45: Grass Cutting - S Hough - April 2 x cuts 8th & 21st April | E45: 1492 | F45: 0
D46: Total Payments | E46: =SUM(E42:E45) -> 4281.2
...

Sheet Sheet1
